BEGIN:VCALENDAR
VERSION:2.0
PRODID:-//Lions Club Lyon Aéroport - ECPv5.12.0//NONSGML v1.0//EN
CALSCALE:GREGORIAN
METHOD:PUBLISH
X-WR-CALNAME:Lions Club Lyon Aéroport
X-ORIGINAL-URL:https://lions-lyon-aeroport.org
X-WR-CALDESC:Events for Lions Club Lyon Aéroport
REFRESH-INTERVAL;VALUE=DURATION:PT1H
X-Robots-Tag:noindex
X-PUBLISHED-TTL:PT1H
BEGIN:VTIMEZONE
TZID:Europe/Paris
BEGIN:DAYLIGHT
TZOFFSETFROM:+0100
TZOFFSETTO:+0200
TZNAME:CEST
DTSTART:20180325T010000
END:DAYLIGHT
BEGIN:STANDARD
TZOFFSETFROM:+0200
TZOFFSETTO:+0100
TZNAME:CET
DTSTART:20181028T010000
END:STANDARD
END:VTIMEZONE
BEGIN:VEVENT
DTSTART;TZID=Europe/Paris:20180909T090000
DTEND;TZID=Europe/Paris:20180909T170000
DTSTAMP:20260424T153519
CREATED:20180915T195626Z
LAST-MODIFIED:20180917T193923Z
UID:680-1536483600-1536512400@lions-lyon-aeroport.org
SUMMARY:Forum des associations
DESCRIPTION:Retrouvez-nous à ce forum pour un dépistage gratuit du glaucome.
URL:https://lions-lyon-aeroport.org/salon-des-vins-bron-2026/forum-des-associations/
LOCATION:Espace Roger Pestourie\, Place du 11 novembre 1918\, Bron\, 69500\, France
END:VEVENT
END:VCALENDAR