BEGIN:VCALENDAR
VERSION:2.0
PRODID:-//Lions Club Lyon Aéroport - ECPv5.12.0//NONSGML v1.0//EN
CALSCALE:GREGORIAN
METHOD:PUBLISH
X-WR-CALNAME:Lions Club Lyon Aéroport
X-ORIGINAL-URL:https://lions-lyon-aeroport.org
X-WR-CALDESC:Events for Lions Club Lyon Aéroport
REFRESH-INTERVAL;VALUE=DURATION:PT1H
X-Robots-Tag:noindex
X-PUBLISHED-TTL:PT1H
BEGIN:VTIMEZONE
TZID:Europe/Paris
BEGIN:DAYLIGHT
TZOFFSETFROM:+0100
TZOFFSETTO:+0200
TZNAME:CEST
DTSTART:20180325T010000
END:DAYLIGHT
BEGIN:STANDARD
TZOFFSETFROM:+0200
TZOFFSETTO:+0100
TZNAME:CET
DTSTART:20181028T010000
END:STANDARD
END:VTIMEZONE
BEGIN:VEVENT
DTSTART;VALUE=DATE:20181009
DTEND;VALUE=DATE:20181012
DTSTAMP:20260424T134510
CREATED:20180915T193319Z
LAST-MODIFIED:20180917T193907Z
UID:663-1539043200-1539302399@lions-lyon-aeroport.org
SUMMARY:Opération Sang pour Sang avec l’EFS
DESCRIPTION:
URL:https://lions-lyon-aeroport.org/salon-des-vins-bron-2026/operation-sang-pour-sang-avec-lefs/
LOCATION:Domaine universitaire de la Doua\, 23 Boulevard André LATARJET\, Villeurbanne\, 69100\, France
END:VEVENT
END:VCALENDAR