BEGIN:VCALENDAR
VERSION:2.0
PRODID:-//Lions Club Lyon Aéroport - ECPv5.12.0//NONSGML v1.0//EN
CALSCALE:GREGORIAN
METHOD:PUBLISH
X-WR-CALNAME:Lions Club Lyon Aéroport
X-ORIGINAL-URL:https://lions-lyon-aeroport.org
X-WR-CALDESC:Events for Lions Club Lyon Aéroport
REFRESH-INTERVAL;VALUE=DURATION:PT1H
X-Robots-Tag:noindex
X-PUBLISHED-TTL:PT1H
BEGIN:VTIMEZONE
TZID:Europe/Paris
BEGIN:DAYLIGHT
TZOFFSETFROM:+0100
TZOFFSETTO:+0200
TZNAME:CEST
DTSTART:20200329T010000
END:DAYLIGHT
BEGIN:STANDARD
TZOFFSETFROM:+0200
TZOFFSETTO:+0100
TZNAME:CET
DTSTART:20201025T010000
END:STANDARD
END:VTIMEZONE
BEGIN:VEVENT
DTSTART;TZID=Europe/Paris:20200313T200000
DTEND;TZID=Europe/Paris:20200313T213000
DTSTAMP:20260423T105252
CREATED:20200226T155640Z
LAST-MODIFIED:20200819T074611Z
UID:879-1584129600-1584135000@lions-lyon-aeroport.org
SUMMARY:Soirée spectacles "Les Allumés"
DESCRIPTION:
URL:https://lions-lyon-aeroport.org/salon-des-vins-bron-2026/soiree-spectacles-les-allumes/
LOCATION:Novotel Lyon Bron\, 260 avenue Jean Monnet\, Bron\, 69500\, France
CATEGORIES:Rencontre culturelle
END:VEVENT
END:VCALENDAR