BEGIN:VCALENDAR
VERSION:2.0
PRODID:-//Lions Club Lyon Aéroport - ECPv5.12.0//NONSGML v1.0//EN
CALSCALE:GREGORIAN
METHOD:PUBLISH
X-WR-CALNAME:Lions Club Lyon Aéroport
X-ORIGINAL-URL:https://lions-lyon-aeroport.org
X-WR-CALDESC:Events for Lions Club Lyon Aéroport
REFRESH-INTERVAL;VALUE=DURATION:PT1H
X-Robots-Tag:noindex
X-PUBLISHED-TTL:PT1H
BEGIN:VTIMEZONE
TZID:Europe/Paris
BEGIN:DAYLIGHT
TZOFFSETFROM:+0100
TZOFFSETTO:+0200
TZNAME:CEST
DTSTART:20200329T010000
END:DAYLIGHT
BEGIN:STANDARD
TZOFFSETFROM:+0200
TZOFFSETTO:+0100
TZNAME:CET
DTSTART:20201025T010000
END:STANDARD
END:VTIMEZONE
BEGIN:VEVENT
DTSTART;TZID=Europe/Paris:20201108T150000
DTEND;TZID=Europe/Paris:20201108T180000
DTSTAMP:20260422T230931
CREATED:20200727T160242Z
LAST-MODIFIED:20200918T155033Z
UID:882-1604847600-1604858400@lions-lyon-aeroport.org
SUMMARY:Concert SOLIDAIRE
DESCRIPTION:Le Lions Club Lyon Aéroport organise un concert solidaire exceptionnel pour soutenir un programme novateur facilitant l’hospitalisation pédiatrique à domicile (HAD) dans la région Rhône\, en présence du médecin en charge et d’une maman qui témoigne. \nAu programme\nMéli-Mélo chorale 2.0\,\nVillette-au-Chœur et Philipp CETIN\nLes bénéfices sont destinés à l’achat de mannequins \nde soins pédiatriques au profit de l’HFME \npour faciliter l’hospitalisation pédiatrique à domicile dans le Rhône.\nComme Piwi Cœur\, chaque année\, 200 enfants\, sortent de l’Hôpital Femme Mère Enfant en étant branchés à des appareils pour manger et respirer.\nAujourd’hui\,\nleurs parents doivent apprendre les gestes techniques et invasifs directement sur leur bébé.\nDemain\,\nils pourront\, grâce à votre générosité\, se former sur des mannequins de soins pédiatriques ! \nChaque année\, 200 enfants\, sortent de l’HFME en étant branchés à des appareils pour manger et respirer. \nPrix place adulte : 15€\nPrix place enfant : 10€ \nVous ne pourrez pas être présent\, mais vous voulez soutenir le programme : le prix soutien est de 15€\n \nBilletterie électronique : www.helloasso.com/associations/lions-club-lyon-aeroport/evenements/concert-solidaire.fr 
URL:https://lions-lyon-aeroport.org/salon-des-vins-bron-2026/concert-solidaire/
LOCATION:Espace Albert Camus\, 1 rue Maryse Bastié\, Bron\, 69500\, France
CATEGORIES:Rencontre culturelle
END:VEVENT
END:VCALENDAR