BEGIN:VCALENDAR
VERSION:2.0
PRODID:-//Lions Club Lyon Aéroport - ECPv5.12.0//NONSGML v1.0//EN
CALSCALE:GREGORIAN
METHOD:PUBLISH
X-WR-CALNAME:Lions Club Lyon Aéroport
X-ORIGINAL-URL:https://lions-lyon-aeroport.org
X-WR-CALDESC:Events for Lions Club Lyon Aéroport
REFRESH-INTERVAL;VALUE=DURATION:PT1H
X-Robots-Tag:noindex
X-PUBLISHED-TTL:PT1H
BEGIN:VTIMEZONE
TZID:Europe/Paris
BEGIN:DAYLIGHT
TZOFFSETFROM:+0100
TZOFFSETTO:+0200
TZNAME:CEST
DTSTART:20210328T010000
END:DAYLIGHT
BEGIN:STANDARD
TZOFFSETFROM:+0200
TZOFFSETTO:+0100
TZNAME:CET
DTSTART:20211031T010000
END:STANDARD
END:VTIMEZONE
BEGIN:VEVENT
DTSTART;VALUE=DATE:20211022
DTEND;VALUE=DATE:20211025
DTSTAMP:20260420T084717
CREATED:20211019T075015Z
LAST-MODIFIED:20211019T085742Z
UID:1136-1634860800-1635119999@lions-lyon-aeroport.org
SUMMARY:Délégation des Lions à Parme avec nos Amis Italiens
DESCRIPTION:Une délégation des Lions Club Lyon aéroport se rend à Parme du 22 au 24 octobre pour rencontrer nos amis Italiens du club de Turin.
URL:https://lions-lyon-aeroport.org/salon-des-vins-bron-2026/delegation-des-lions-a-parme-avec-nos-amis-italiens/
CATEGORIES:Rencontre culturelle
ATTACH;FMTTYPE=image/jpeg:https://lions-lyon-aeroport.org/wp-content/uploads/2020/08/Logo_lions_reduce.jpg
END:VEVENT
END:VCALENDAR