BEGIN:VCALENDAR
VERSION:2.0
PRODID:-//Lions Club Lyon Aéroport - ECPv5.12.0//NONSGML v1.0//EN
CALSCALE:GREGORIAN
METHOD:PUBLISH
X-WR-CALNAME:Lions Club Lyon Aéroport
X-ORIGINAL-URL:https://lions-lyon-aeroport.org
X-WR-CALDESC:Events for Lions Club Lyon Aéroport
REFRESH-INTERVAL;VALUE=DURATION:PT1H
X-Robots-Tag:noindex
X-PUBLISHED-TTL:PT1H
BEGIN:VTIMEZONE
TZID:Europe/Paris
BEGIN:DAYLIGHT
TZOFFSETFROM:+0100
TZOFFSETTO:+0200
TZNAME:CEST
DTSTART:20190331T010000
END:DAYLIGHT
BEGIN:STANDARD
TZOFFSETFROM:+0200
TZOFFSETTO:+0100
TZNAME:CET
DTSTART:20191027T010000
END:STANDARD
END:VTIMEZONE
BEGIN:VEVENT
DTSTART;TZID=Europe/Paris:20190124T200000
DTEND;TZID=Europe/Paris:20190124T220000
DTSTAMP:20260424T070755
CREATED:20181009T214047Z
LAST-MODIFIED:20181009T214047Z
UID:706-1548360000-1548367200@lions-lyon-aeroport.org
SUMMARY:Soirée communication
DESCRIPTION:Les membres du Lions Club Lyon Aéroport vous présente le Lions\, son histoire\, ses buts et ses activités \n  \npour s’inscrire : espace contact
URL:https://lions-lyon-aeroport.org/salon-des-vins-bron-2026/soiree-communication/
LOCATION:Novotel Lyon Bron\, 260 avenue Jean Monnet\, Bron\, 69500\, France
END:VEVENT
END:VCALENDAR