BEGIN:VCALENDAR
VERSION:2.0
PRODID:-//Lions Club Lyon Aéroport - ECPv5.12.0//NONSGML v1.0//EN
CALSCALE:GREGORIAN
METHOD:PUBLISH
X-WR-CALNAME:Lions Club Lyon Aéroport
X-ORIGINAL-URL:https://lions-lyon-aeroport.org
X-WR-CALDESC:Events for Lions Club Lyon Aéroport
REFRESH-INTERVAL;VALUE=DURATION:PT1H
X-Robots-Tag:noindex
X-PUBLISHED-TTL:PT1H
BEGIN:VTIMEZONE
TZID:Europe/Paris
BEGIN:DAYLIGHT
TZOFFSETFROM:+0100
TZOFFSETTO:+0200
TZNAME:CEST
DTSTART:20190331T010000
END:DAYLIGHT
BEGIN:STANDARD
TZOFFSETFROM:+0200
TZOFFSETTO:+0100
TZNAME:CET
DTSTART:20191027T010000
END:STANDARD
END:VTIMEZONE
BEGIN:VEVENT
DTSTART;TZID=Europe/Paris:20191128T193000
DTEND;TZID=Europe/Paris:20191128T220000
DTSTAMP:20260423T154313
CREATED:20191016T155119Z
LAST-MODIFIED:20191016T161856Z
UID:760-1574969400-1574978400@lions-lyon-aeroport.org
SUMMARY:Conférence Paul BERLIET   Visionnaire
DESCRIPTION:  \nNé à Lyon le 5 octobre 1918\, Paul BERLIET vit\, dès son enfance\, dans l’ambiance des usines crées et dirigées par son père Marius BERLIET. \nAprès la décennie 40\, il prend les rênes de la société familiale au début des années 50. En près d’un quart de siècle l’entreprise passe de10 000 à 24 000 personnes et d’une capacité de 31 0 140 véhicules par jour en mettant en œuvre la culture de l’innovation et de l’international\, particulièrement dans les pays émergents.
URL:https://lions-lyon-aeroport.org/salon-des-vins-bron-2026/conference-paul-berliet-visionnaire/
LOCATION:Novotel Lyon Bron\, 260 avenue Jean Monnet\, Bron\, 69500\, France
CATEGORIES:Conférence
END:VEVENT
END:VCALENDAR