BEGIN:VCALENDAR
VERSION:2.0
PRODID:-//Lions Club Lyon Aéroport - ECPv5.12.0//NONSGML v1.0//EN
CALSCALE:GREGORIAN
METHOD:PUBLISH
X-WR-CALNAME:Lions Club Lyon Aéroport
X-ORIGINAL-URL:https://lions-lyon-aeroport.org
X-WR-CALDESC:Events for Lions Club Lyon Aéroport
REFRESH-INTERVAL;VALUE=DURATION:PT1H
X-Robots-Tag:noindex
X-PUBLISHED-TTL:PT1H
BEGIN:VTIMEZONE
TZID:Europe/Paris
BEGIN:DAYLIGHT
TZOFFSETFROM:+0100
TZOFFSETTO:+0200
TZNAME:CEST
DTSTART:20190331T010000
END:DAYLIGHT
BEGIN:STANDARD
TZOFFSETFROM:+0200
TZOFFSETTO:+0100
TZNAME:CET
DTSTART:20191027T010000
END:STANDARD
END:VTIMEZONE
BEGIN:VEVENT
DTSTART;TZID=Europe/Paris:20191212T200000
DTEND;TZID=Europe/Paris:20191212T213000
DTSTAMP:20260423T140929
CREATED:20191115T154534Z
LAST-MODIFIED:20200819T074711Z
UID:816-1576180800-1576186200@lions-lyon-aeroport.org
SUMMARY:Soirée littéraire du 12 décembre 2019
DESCRIPTION:Au Novotel de BRON de 20H à 21H 30. Accueil à partir de 19H15 Buffet 17€\, à régler à l’entrée. \n\n\n\nVous êtes invités à rencontrer trois auteurs sélectionnés pour le prix du roman 2019 \n\n\n\nPatricia SARRIO: « Les Funambules » 2eme roman \n\n\n\nPhilippe GRANDCOING: « Le tigre et les pilleurs de Dieu » 1er roman \n\n\n\nCécile CABANAC: « Des poignards dans les sourires » 1er roman. \n\n\n\nIndisponible mais son livre sera présenté. \n\n\n\nInscriptions nécessaires au 06 82 21 44 49 ou marinad.jacquet@wanadoo.fr avant le 1 12 2019
URL:https://lions-lyon-aeroport.org/salon-des-vins-bron-2026/soiree-litteraire-du-12-decembre-2019/
CATEGORIES:Rencontre culturelle
END:VEVENT
END:VCALENDAR