BEGIN:VCALENDAR
VERSION:2.0
PRODID:-//Lions Club Lyon Aéroport - ECPv5.12.0//NONSGML v1.0//EN
CALSCALE:GREGORIAN
METHOD:PUBLISH
X-WR-CALNAME:Lions Club Lyon Aéroport
X-ORIGINAL-URL:https://lions-lyon-aeroport.org
X-WR-CALDESC:Events for Lions Club Lyon Aéroport
REFRESH-INTERVAL;VALUE=DURATION:PT1H
X-Robots-Tag:noindex
X-PUBLISHED-TTL:PT1H
BEGIN:VTIMEZONE
TZID:Europe/Paris
BEGIN:DAYLIGHT
TZOFFSETFROM:+0100
TZOFFSETTO:+0200
TZNAME:CEST
DTSTART:20200329T010000
END:DAYLIGHT
BEGIN:STANDARD
TZOFFSETFROM:+0200
TZOFFSETTO:+0100
TZNAME:CET
DTSTART:20201025T010000
END:STANDARD
END:VTIMEZONE
BEGIN:VEVENT
DTSTART;TZID=Europe/Paris:20200117T203000
DTEND;TZID=Europe/Paris:20200117T223000
DTSTAMP:20260423T123755
CREATED:20200124T154421Z
LAST-MODIFIED:20200819T074654Z
UID:825-1579293000-1579300200@lions-lyon-aeroport.org
SUMMARY:Soirée Théâtre "LA BONNE ADRESSE"
DESCRIPTION:
URL:https://lions-lyon-aeroport.org/salon-des-vins-bron-2026/soiree-theatre-la-bonne-adresse/
LOCATION:Rue St Marc Lyon 2
END:VEVENT
END:VCALENDAR