BEGIN:VCALENDAR
VERSION:2.0
PRODID:-//Lions Club Lyon Aéroport - ECPv5.12.0//NONSGML v1.0//EN
CALSCALE:GREGORIAN
METHOD:PUBLISH
X-WR-CALNAME:Lions Club Lyon Aéroport
X-ORIGINAL-URL:https://lions-lyon-aeroport.org
X-WR-CALDESC:Events for Lions Club Lyon Aéroport
REFRESH-INTERVAL;VALUE=DURATION:PT1H
X-Robots-Tag:noindex
X-PUBLISHED-TTL:PT1H
BEGIN:VTIMEZONE
TZID:Europe/Paris
BEGIN:DAYLIGHT
TZOFFSETFROM:+0100
TZOFFSETTO:+0200
TZNAME:CEST
DTSTART:20210328T010000
END:DAYLIGHT
BEGIN:STANDARD
TZOFFSETFROM:+0200
TZOFFSETTO:+0100
TZNAME:CET
DTSTART:20211031T010000
END:STANDARD
END:VTIMEZONE
BEGIN:VEVENT
DTSTART;TZID=Europe/Paris:20210927T110000
DTEND;TZID=Europe/Paris:20211001T170000
DTSTAMP:20260420T070825
CREATED:20210927T081612Z
LAST-MODIFIED:20211018T161344Z
UID:1088-1632740400-1633107600@lions-lyon-aeroport.org
SUMMARY:Opération Sang pour Sang Campus 2021
DESCRIPTION:nous avons besoin de vous les Lions \nLa semaine précédente sang pour sang campus\, soit les 27\, 28\, 29\, 30 Septembre et le 1er octobre pour prendre des RDV auprès des jeunes sur le Campus (9 Lions par jour sur 5 jours soit 45 Lions). \nVous trouverez ci-dessous les doodles pour vous inscrire comme chaque année pour le tractage : \ndoodle pour la prise de RDV 
URL:https://lions-lyon-aeroport.org/salon-des-vins-bron-2026/operation-sang-pour-sang-campus-2021/
LOCATION:Domaine universitaire de la Doua\, 23 Boulevard André LATARJET\, Villeurbanne\, 69100\, France
ATTACH;FMTTYPE=image/jpeg:https://lions-lyon-aeroport.org/wp-content/uploads/2021/09/collecte_sangpoursangcampus-p.jpg
END:VEVENT
BEGIN:VEVENT
DTSTART;TZID=Europe/Paris:20211005T080000
DTEND;TZID=Europe/Paris:20211007T170000
DTSTAMP:20260420T070825
CREATED:20210927T082149Z
LAST-MODIFIED:20211018T160429Z
UID:1091-1633420800-1633626000@lions-lyon-aeroport.org
SUMMARY:Opération Sang pour Sang Campus 2021 : Collecte du 5 au 7 octobre 2021
DESCRIPTION:Chers Membres Lions\, \nCette année encore l’opération Sang Pour Sang Campus va avoir lieu sur le Campus de la Doua\, dans la Halle de Tennis\, les 5\, 6 et 7 octobre\, dans le respect\, bien sûr\, de toutes les règles sanitaires. \nA cause de la Covid\, nous avons cette année encore\, un formidable challenge à relever… d’autant plus nécessaire que nos amis de l’EFS sont en grande difficulté avec des réserves en sang très faibles. \nRappel : 1 poche de sang = 3 Vies sauvées \n Cette année tout donneur devra prendre rendez-vous sur MonDondeSang pour venir donner son sang : https://mon-rdv-dondesang.efs.sante.fr/ et nous allons l’aider à prendre ce RDV. \nComme les années précédentes\, notre objectif est de recevoir de nouveaux jeunes donneurs et de récupérer 1100 poches de sang sur 3 jours. \nNotre activité en tant que Lions va être d’enregistrer (et faire enregistrer) les donneurs sur Mon Don de Sang durant les journées de tractage / prise de RDV. \nNotre objectif est d’enregistrer au moins 1200 réservations pour atteindre cette collecte de 1100 poches. \nL’activité de contact auprès des jeunes devient cette année encore vraiment cruciale et elle se déroulera sur la semaine précédente du 27 septembre au 1er octobre. \nNous formerons des binômes Lions et EFS afin de réaliser cette démarche et une mini formation sera organisée pour chaque vacation.
URL:https://lions-lyon-aeroport.org/salon-des-vins-bron-2026/operation-sang-pour-sang-campus-2021-collecte-du-5-au-7-octobre-2021/
LOCATION:Domaine universitaire de la Doua\, 23 Boulevard André LATARJET\, Villeurbanne\, 69100\, France
ATTACH;FMTTYPE=image/jpeg:https://lions-lyon-aeroport.org/wp-content/uploads/2021/09/collecte_sangpoursangcampus-p.jpg
END:VEVENT
BEGIN:VEVENT
DTSTART;TZID=Europe/Paris:20211016T080000
DTEND;TZID=Europe/Paris:20211016T170000
DTSTAMP:20260420T070825
CREATED:20210927T083033Z
LAST-MODIFIED:20211018T161244Z
UID:1093-1634371200-1634403600@lions-lyon-aeroport.org
SUMMARY:Chariots Bébés
DESCRIPTION:Collecte pour les bébés des Restos du cœur
URL:https://lions-lyon-aeroport.org/salon-des-vins-bron-2026/chariots-bebes-2/
ATTACH;FMTTYPE=image/png:https://lions-lyon-aeroport.org/wp-content/uploads/2018/09/collecte-Chariots-bébés.png
END:VEVENT
BEGIN:VEVENT
DTSTART;VALUE=DATE:20211022
DTEND;VALUE=DATE:20211025
DTSTAMP:20260420T070825
CREATED:20211019T075015Z
LAST-MODIFIED:20211019T085742Z
UID:1136-1634860800-1635119999@lions-lyon-aeroport.org
SUMMARY:Délégation des Lions à Parme avec nos Amis Italiens
DESCRIPTION:Une délégation des Lions Club Lyon aéroport se rend à Parme du 22 au 24 octobre pour rencontrer nos amis Italiens du club de Turin.
URL:https://lions-lyon-aeroport.org/salon-des-vins-bron-2026/delegation-des-lions-a-parme-avec-nos-amis-italiens/
CATEGORIES:Rencontre culturelle
ATTACH;FMTTYPE=image/jpeg:https://lions-lyon-aeroport.org/wp-content/uploads/2020/08/Logo_lions_reduce.jpg
END:VEVENT
END:VCALENDAR